BEGIN:VCALENDAR
VERSION:2.0
PRODID:-//Spatzabrettle//Event//DE
BEGIN:VEVENT
UID:spatzabrettle-event-263@spatzabrettle.de
DTSTAMP:20260424T093110Z
DTSTART:20260117T200000
DTEND:20260117T230000
SUMMARY:JOHANNES FLÖCK – Schöner schonen · Spatzabrettle
LOCATION:Festhalle Schützingen
URL:https://www.spatzabrettle.de/eintrittskarten.php?event_id=263
END:VEVENT
END:VCALENDAR
