BEGIN:VCALENDAR
VERSION:2.0
PRODID:-//Spatzabrettle//Event//DE
BEGIN:VEVENT
UID:spatzabrettle-event-264@spatzabrettle.de
DTSTAMP:20260420T113748Z
DTSTART:20260207T200000
DTEND:20260207T230000
SUMMARY:ANDY HÄUSSLER – Irrtümer und andere Wunder · Spatzabrettle
LOCATION:Festhalle Schützingen
URL:https://www.spatzabrettle.de/eintrittskarten.php?event_id=264
END:VEVENT
END:VCALENDAR
