BEGIN:VCALENDAR
VERSION:2.0
PRODID:-//Spatzabrettle//Event//DE
BEGIN:VEVENT
UID:spatzabrettle-event-265@spatzabrettle.de
DTSTAMP:20260420T113011Z
DTSTART:20260314T200000
DTEND:20260314T230000
SUMMARY:ALICE HOFFMANN – Torschlusspanik · Spatzabrettle
LOCATION:Festhalle Schützingen
URL:https://www.spatzabrettle.de/eintrittskarten.php?event_id=265
END:VEVENT
END:VCALENDAR
