BEGIN:VCALENDAR
VERSION:2.0
PRODID:-//Spatzabrettle//Event//DE
BEGIN:VEVENT
UID:spatzabrettle-event-267@spatzabrettle.de
DTSTAMP:20260424T092837Z
DTSTART:20260418T200000
DTEND:20260418T230000
SUMMARY:WÜRZBACHER – Alibi-Bauernhof · Spatzabrettle
LOCATION:Festhalle Schützingen
URL:https://www.spatzabrettle.de/eintrittskarten.php?event_id=267
END:VEVENT
END:VCALENDAR
